BEGIN:VCALENDAR
VERSION:2.0
PRODID:Events Booking
BEGIN:VEVENT
UID:69e735a2925bd
SUMMARY:תצפית שטח 27/9/2019
DESCRIPTION:הצטרפו למתנדבי האגודה הישראלית לא
 סטרונומיה לחוויה בלתי נשכחת - לילה קסום 
 תחת שמי הסתיו ואלפי כוכבים.
 במהלך הלילה 
 יועברו הסברים על השמיים ועל קבוצות הכוכב
 ים\, נשמע סיפורי מיתולוגיה מעניינים. נצפ
 ה בכוכבי לכת\, ערפיליות\, גלקסיות\, צבירים
 \, כוכבים כפולים\, שביל החלב ועוד...
 אין צ
 ורך בציוד אסטרונומי או בידע מוקדם.
DTSTART:20190927T120000Z
DTEND:20190928T050000Z
DTSTAMP:20260421T083026Z
ORGANIZER;CN=האגודה הישראלית לאסטרונומיה:MAILTO:ob
 servations@astronomy.org.il
END:VEVENT
END:VCALENDAR