BEGIN:VCALENDAR
VERSION:2.0
PRODID:Events Booking
BEGIN:VEVENT
UID:69e89a9ca0d5a
SUMMARY:הרצאה: בני-לוויה ושאריות מסביב לננסי
 ם לבנים.
DESCRIPTION:מרצה:
 ד\"ר נעמה חלקון - מדענית במחל
 קה לפיסיקה של חלקיקים ואסטרופיסיקה במכו
 ן ויצמן למדע.
 תקציר:
 למעלה מ-97% מכל הכוכ
 בים\, כולל השמש שלנו\, יסיימו את חייהם כננ
 סים לבנים: כוכבים קטנים ודחוסים\, המתקררי
 ם באטיות במשך מיליארדי שנים. מאחר שלרוב ה
 כוכבים דמויי-השמש יש כוכבי-לכת המקיפים א
 ותם\, לתצפיות בננסים לבנים קיימת חשיבות ר
 בה בהבנת גורלן של מערכות פלנטריות.
 תצפי
 ות אלו יכולות לגלות נוכחות של בני-לוויה כ
 מו ננסים לבנים אחרים\, שאריות ממערכות שמש
  קדומות\, ואף כוכבי-לכת שבהם ייתכנו חיים.

  חקר ננסים לבנים וסביבתם הקרובה עשוי לסי
 יע להבנה טובה יותר של תהליכים אסטרו-פיזי
 קליים\, החל מהתפתחותם של כוכבים ועד לגלי 
 הכבידה. 
  בהרצאה נראה מה ניתן ללמוד מתצ
 פיות בננסים לבנים\, וכיצד ניתן לעשות זאת.
LOCATION:Ha-Meri Street 66\, Givatayim\, Israel
DTSTART:20250327T190000Z
DTEND:20250327T203000Z
DTSTAMP:20260422T095332Z
ORGANIZER;CN=האגודה הישראלית לאסטרונומיה:MAILTO:ob
 servations@astronomy.org.il
GEO:32.070509;34.815134
X-APPLE-STRUCTURED-LOCATION;VALUE=URI;X-ADDRESS=Ha-Meri Street 66\, Givatay
 im\, Israel;X-APPLE-RADIUS=72;X-TITLE=מצפה הכוכבים גבעתיי
 ם:32.070509;34.815134
END:VEVENT
END:VCALENDAR