BEGIN:VCALENDAR
VERSION:2.0
PRODID:Events Booking
BEGIN:VEVENT
UID:69e9d64277df4
SUMMARY:תצפית רחוב בינלאומית בנמל תל אביב 16/10
 /2021
DESCRIPTION:במסגרת אירועי חודש האסטרונומיה הב
 ינלאומי GAM\, בשיתוף עם ארגון Astronomy Without Border
 s\,
 יקיימו מתנדבי האגודה הישראלית לאסטרו
 נומיה תצפית רחוב לקהל הרחב בנמל תל אביב ב
 ו זמנית עם צופים מרחבי העולם.
 בתצפית יר
 או המתנדבים לקהל את הירח וכוכבי לכת דרך 
 טלסקופים מתקדמים.
 התצפית היא בחינם ומיו
 עדת לילדים ולמבוגרים כאחד. 
 מיקום התצפי
 ת - ליד גשר מסוף רידינג\, סמוך לפסל המלאך 
 והאמפיתיאטרון -
 https://goo.gl/maps/HJYqubQTvSN2
  
 ש
 ימו לב: 
 * התצפית בכפוף למזג האוויר. אנא 
 עקבו אחר העדכונים בעמוד זה גם במהלך יום ה
 תצפית.
 * ההשתתפות בתצפית בהתאם למגבלות ה
 קורונה של משרד הבריאות.
LOCATION:Blair St\, Tel Aviv-Yafo\, Israel
DTSTART:20211016T170000Z
DTEND:20211016T200000Z
DTSTAMP:20260423T082018Z
ORGANIZER;CN=האגודה הישראלית לאסטרונומיה:MAILTO:ob
 servations@astronomy.org.il
GEO:32.099191;34.777104
X-APPLE-STRUCTURED-LOCATION;VALUE=URI;X-ADDRESS=Blair St\, Tel Aviv-Yafo\, 
 Israel;X-APPLE-RADIUS=72;X-TITLE=נמל תל אביב:32.099191;34.777104
END:VEVENT
END:VCALENDAR