BEGIN:VCALENDAR
VERSION:2.0
PRODID:Events Booking
BEGIN:VEVENT
UID:69e748df09a5e
SUMMARY:מופע פלנטריום: פרסאידים - מטר המטאורי
 ם הטוב בשנה!
DESCRIPTION:תקציר:
 אוגוסט הוא חודש המטאורים! ה
 מטר הגדול של השנה מגיע לשיאו - מטר הפרסאי
 דים. נטוס למסע במקור המטר\, נבין מה הם מטא
 ורים והכי חשוב - עשרת הטיפים החשובים לצפי
 ה מוצלחת במטר המטאורים.
 לאחר המופע נקיי
 ם תצפית טלסקופים - בכפוף לתנאי מזג האוויר
 .
 ​המופע בשיתוף האגודה הישראלית לאסטרו
 נומיה - ומועבר ע\"י נדב רוטנברג\, יו\"ר האגו
 דה.
 המופע מתאים לגיל 12+.
 מחיר המופע לקהל
  הרחב - 30 ₪.
 הכניסה לחברי האגודה הישראלי
 ת לאסטרונומיה -חינם\, בהרשמה מראש כאן.
 ה
 הרשמה לא מופיעה? התחברו כאן לחשבונכם כאן
 
 לקהל הרחב: רכישת כרטיסים מראש כאן או בט
 לפון 09-8308860 (בשעות פעילות פלנתניה).
LOCATION:Sugihara 1\, Netanya\, Israel
DTSTART:20240717T170000Z
DTEND:20240717T180000Z
DTSTAMP:20260421T095231Z
ORGANIZER;CN=האגודה הישראלית לאסטרונומיה:MAILTO:ob
 servations@astronomy.org.il
GEO:32.314277;34.848561
X-APPLE-STRUCTURED-LOCATION;VALUE=URI;X-ADDRESS=Sugihara 1\, Netanya\, Isra
 el;X-APPLE-RADIUS=72;X-TITLE=פלנתניה:32.314277;34.848561
END:VEVENT
END:VCALENDAR