BEGIN:VCALENDAR
VERSION:2.0
PRODID:Events Booking
BEGIN:VEVENT
UID:69e7476df1859
SUMMARY:ביקור במצפה הכוכבים גבעתיים - מתכונת 
 מיוחדת
DESCRIPTION: 
  
  
 מצפה הכוכבים גבעתיים חוזר 
 לפעילות!
  
 המצפה ייפתח לקהל הרחב החל מי
 ום חמישי ה-12/11 במתכונת מיוחדת.
 אחרי פגרה 
 ארוכה\, צוות מצפה הכוכבים גבעתיים שמח לפת
 וח שוב את שעריו לקהל הרחב!
 הפעילויות ייע
 רכו בימי חמישי בשעות הערב. ימי פעילות נוס
 פים ייפתחו בהתאם לביקוש. 
  
 מתכונת הפע
 ילות
 הפעילות כוללת הרצאת מבוא לחקר החלל
  ואסטרונומיה ותצפית בטלסקופים על גרמי הש
 מיים שניתן לראות באותו הערב. בנוסף\, יוכל
 ו המבקרים לחזות בתערוכת צילומי האסטרונו
 מיה שכוללת 13 צילומים של צלמים ישראלים שז
 כו לאחרונה בתחרות של האגודה הישראלית לאס
 טרונומיה. ההשקה החגיגית של התערוכה תוכננ
 ה לחודש מרץ ונדחתה בשל הקורונה\, וכעת המב
 קרים במצפה יוכלו להיות הראשונים שצופים ב
 ה.
 משך הסיור הוא כ-50 דקות.
  
 מיצג הפלנט
 ריום המדמה את כיפת השמיים ב-360 מעלות לא ית
 קיים בשלב זה בשל מגבלות הריחוק.
 הסיורים 
 יתקיימו בקבוצות של 10 אנשים – הזדמנות נהד
 רת לכל מי שמתעניין באסטרונומיה לסייר במצ
 פה ולהעשיר את הידע ללא חשש צפיפות ועם יחס
  אישי מצוות המדריכים שישמחו לענות לכל שא
 לה.
 הפעילות מתאימה הן למבוגרים והן למשפ
 חות עם ילדים מגיל 8 ומעלה.
LOCATION:Ha-Meri Street 66\, Givatayim\, Israel
DTSTART:20200702T170000Z
DTSTAMP:20260421T094621Z
ORGANIZER;CN=האגודה הישראלית לאסטרונומיה:MAILTO:ob
 servations@astronomy.org.il
GEO:32.070509;34.815134
X-APPLE-STRUCTURED-LOCATION;VALUE=URI;X-ADDRESS=Ha-Meri Street 66\, Givatay
 im\, Israel;X-APPLE-RADIUS=72;X-TITLE=מצפה הכוכבים גבעתיי
 ם:32.070509;34.815134
END:VEVENT
END:VCALENDAR