BEGIN:VCALENDAR
VERSION:2.0
PRODID:Events Booking
BEGIN:VEVENT
UID:69e5e121d9af8
SUMMARY:הרצאה: אסטרוביולוגיה\, המקום בו אסטרו
 נומיה וביוכימיה נפגשות כדי לגלות חיים בח
 לל - בוטל בשל המצב הביטחוני
DESCRIPTION:מרצה:
 פרופ' עמרי ונדל - האוניברסיט
 ה העברית.
 תקציר:
 פרופ' עמרי ונדל הוא פרו
 פסור מהאוניברסיטה העברית\, ומשמש כיושב ר
 אש האגודה הישראלית לאסטרוביולוגיה וראשי
 ת החיים.
 לאחר ההרצאה יוצגו ספריו החדשים 
 בתחום: Life in Space.
 בהרצאה יוצגו השאלות המרכ
 זיות של האסטרוביולוגיה: מה מגדיר חיים? אי
 לו תנאים כימיים ופיזיקליים דרושים להיוו
 צרותם? מהם אזורי החיים סביב כוכבים\, ומה מ
 למד אותנו כדור הארץ על האפשרות לחיים במק
 ומות קיצוניים אחרים?
 עוד נדון בחיפוש אח
 ר מים ונוכחות כימית וביולוגית במאדים\, בי
 רחי צדק ובשבתאי\, ואף בכוכבי לכת מחוץ למע
 רכת השמש. 
 לבסוף\, תעסוק ההרצאה בשיטות ה
 עדכניות לגילוי סימני חיים (biosignatures) באטמו
 ספרות של כוכבי לכת רחוקים\, בתרומת טלסקופ
 י חלל ובמשמעויות האפשריות של גילויים כאל
 ה מבחינה מדעית\, פילוסופית ותרבותית.
LOCATION:Ha-Meri Street 66\, Givatayim\, Israel
DTSTART:20260305T190000Z
DTEND:20260305T203000Z
DTSTAMP:20260420T081737Z
ORGANIZER;CN=האגודה הישראלית לאסטרונומיה:MAILTO:ob
 servations@astronomy.org.il
GEO:32.070509;34.815134
X-APPLE-STRUCTURED-LOCATION;VALUE=URI;X-ADDRESS=Ha-Meri Street 66\, Givatay
 im\, Israel;X-APPLE-RADIUS=72;X-TITLE=מצפה הכוכבים גבעתיי
 ם:32.070509;34.815134
END:VEVENT
END:VCALENDAR